BEGIN:VCALENDAR
VERSION:2.0
PRODID:-//GDP Consultants - ECPv6.2.8.2//NONSGML v1.0//EN
CALSCALE:GREGORIAN
METHOD:PUBLISH
X-ORIGINAL-URL:https://www.gdpconsultants.nl
X-WR-CALDESC:Evenementen voor GDP Consultants
REFRESH-INTERVAL;VALUE=DURATION:PT1H
X-Robots-Tag:noindex
X-PUBLISHED-TTL:PT1H
BEGIN:VTIMEZONE
TZID:Europe/Amsterdam
BEGIN:DAYLIGHT
TZOFFSETFROM:+0100
TZOFFSETTO:+0200
TZNAME:CEST
DTSTART:20210328T010000
END:DAYLIGHT
BEGIN:STANDARD
TZOFFSETFROM:+0200
TZOFFSETTO:+0100
TZNAME:CET
DTSTART:20211031T010000
END:STANDARD
END:VTIMEZONE
BEGIN:VEVENT
DTSTART;TZID=Europe/Amsterdam:20210114T093000
DTEND;TZID=Europe/Amsterdam:20210114T170000
DTSTAMP:20260421T181937
CREATED:20210107T162209Z
LAST-MODIFIED:20210107T171444Z
UID:491-1610616600-1610643600@www.gdpconsultants.nl
SUMMARY:GDP - Responsible Person  - Training
DESCRIPTION:Eendaagse training GDP Responsible Person / Verantwoordelijk Persoon (vanaf MBO+ervaring/HBO) \nWilt u groothandelen in geneesmiddelen? Heeft u een transportbedrijf en wilt u geneesmiddelen voor uw klanten ook gaan opslaan?\nVolg dan de training GDP Responsible Person! \nCursusdata Januari 2021 \n\ndonderdag 14 januari\nmaandag 18 januari\ndonderdag 21 januari\n\nJanuari = opleidingsmaand. Gereduceerde prijs voor trainingen in de maand Januari. \nEr zijn nog enkele plaatsen vrij op 14 en 21 januari 2021. \nDe training is geschikt vanaf HBO (eventueel MBO + relevante ervaring). U krijgt een inventariserende vragenlijst vooraf\, en een eindtoets.\nUw specifieke vragen/problematiek kunnen aan bod komen\, hiervoor reserveren we ruimte in het programma. \nAanvang 09.30\, einde 17.00 te Zeist. Voldoende parkeergelegenheid in de buurt. Voor lunch wordt gezorgd!
URL:https://www.gdpconsultants.nl/event/gdp-responsible-person/
LOCATION:De Oude Apotheek/Ondernemershuis Zeist\, 1e Dorpsstraat 13\, Zeist\, Nederland\, 3701HA\, Nederland
CATEGORIES:GDP,Opleidingen
ATTACH;FMTTYPE=image/jpeg:https://www.gdpconsultants.nl/wp-content/uploads/2015/11/Headerfoto.jpg
ORGANIZER;CN="GDPConsultants":MAILTO:bart@gdpconsultants.nl
END:VEVENT
END:VCALENDAR